BEGIN:VCALENDAR
VERSION:2.0
PRODID:-//Badminton Club de Sainte Maure de Touraine - ECPv6.3.1//NONSGML v1.0//EN
CALSCALE:GREGORIAN
METHOD:PUBLISH
X-WR-CALNAME:Badminton Club de Sainte Maure de Touraine
X-ORIGINAL-URL:https://smdt-bad.fr
X-WR-CALDESC:évènements pour Badminton Club de Sainte Maure de Touraine
REFRESH-INTERVAL;VALUE=DURATION:PT1H
X-Robots-Tag:noindex
X-PUBLISHED-TTL:PT1H
BEGIN:VTIMEZONE
TZID:Europe/Paris
BEGIN:DAYLIGHT
TZOFFSETFROM:+0100
TZOFFSETTO:+0200
TZNAME:CEST
DTSTART:20260329T010000
END:DAYLIGHT
BEGIN:STANDARD
TZOFFSETFROM:+0200
TZOFFSETTO:+0100
TZNAME:CET
DTSTART:20261025T010000
END:STANDARD
END:VTIMEZONE
BEGIN:VEVENT
DTSTART;VALUE=DATE:20260228
DTEND;VALUE=DATE:20260302
DTSTAMP:20260426T004144
CREATED:20251206T174058Z
LAST-MODIFIED:20251206T174340Z
UID:646-1772236800-1772409599@smdt-bad.fr
SUMMARY:2ème édition du Tournoi des Volants de la Manse 2026
DESCRIPTION:
URL:https://smdt-bad.fr/event/646/
LOCATION:Gymnase de la Manse\, Route du Louroux\, Sainte Maure de Touraine\, 37800\, France
ORGANIZER;CN="BCSMT":MAILTO:smdt.bad@gmail.com
END:VEVENT
END:VCALENDAR